View In:
ArcGIS JavaScript
ArcGIS Online Map Viewer
ArcGIS Earth
ArcMap
View Footprint In:
ArcGIS Online Map Viewer
Service Description: Panchromatic Landsat 8 OLI Image Service covering the landmass of the World. This service includes Panchromatic scenes, at 15 meter resolution. Using on-the-fly processing, the raw DN values are transformed to scaled (0 - 10000) apparent reflectance values and then different enhancement renderings are applied. The service is updated on a daily basis to include the latest best scenes from the USGS.
Name: Landsat8_Panchromatic
Description: Panchromatic Landsat 8 OLI Image Service covering the landmass of the World. This service includes Panchromatic scenes, at 15 meter resolution. Using on-the-fly processing, the raw DN values are transformed to scaled (0 - 10000) apparent reflectance values and then different enhancement renderings are applied. The service is updated on a daily basis to include the latest best scenes from the USGS.
Single Fused Map Cache: false
Extent:
XMin: -2.00375070672E7
YMin: -1.0635975075400002E7
XMax: 2.0037507842788246E7
YMax: 1.3999994924599998E7
Spatial Reference: 102100
(3857)
Initial Extent:
XMin: -2.00375070672E7
YMin: -1.0635975075400002E7
XMax: 2.0037507842788246E7
YMax: 1.3999994924599998E7
Spatial Reference: 102100
(3857)
Full Extent:
XMin: -2.00375070672E7
YMin: -1.0635975075400002E7
XMax: 2.0037507842788246E7
YMax: 1.3999994924599998E7
Spatial Reference: 102100
(3857)
Time Info:
Start Time Field: AcquisitionDate
End Time Field: AcquisitionDate
Time Extent:
[2013/03/18 15:58:15 UTC, 2026/05/17 20:20:41 UTC]
Time Reference:
N/A
Pixel Size X: 14.99999809481876
Pixel Size Y: 15.0
Band Count: 1
Pixel Type: S16
RasterFunction Infos: {"rasterFunctionInfos": [
{
"name": "Panchromatic",
"description": "15m Panchromatic band (8), with fixed stretch applied on apparent reflectance.",
"help": ""
},
{
"name": "Panchromatic with DRA Sharpened",
"description": "15m Panchromatic band (8), with sharpen convolution filter and Dynamic Range Adjustment applied on apparent reflectance.",
"help": ""
},
{
"name": "Panchromatic Sharpened",
"description": "15m Panchromatic band (8), with sharpen convolution filter applied on apparent reflectance.",
"help": ""
},
{
"name": "Panchromatic with DRA",
"description": "15m Panchromatic band (8) with Dynamic Range Adjustment applied on apparent reflectance.",
"help": ""
},
{
"name": "None",
"description": "",
"help": ""
}
]}
Mensuration Capabilities: Basic
Has Histograms: false
Has Colormap: false
Has Multi Dimensions : false
Rendering Rule:
Min Scale: 0
Max Scale: 0
Copyright Text:
Service Data Type: esriImageServiceDataTypeGeneric
Min Values: N/A
Max Values: N/A
Mean Values: N/A
Standard Deviation Values: N/A
Object ID Field: OBJECTID
Fields:
-
OBJECTID
(
type: esriFieldTypeOID, alias: OBJECTID
)
-
Name
(
type: esriFieldTypeString, alias: Name, length: 200
)
-
MinPS
(
type: esriFieldTypeDouble, alias: MinPS
)
-
MaxPS
(
type: esriFieldTypeDouble, alias: MaxPS
)
-
LowPS
(
type: esriFieldTypeDouble, alias: LowPS
)
-
HighPS
(
type: esriFieldTypeDouble, alias: HighPS
)
-
Category
(
type: esriFieldTypeInteger, alias: Category
, Coded Values:
[0: Unknown]
, [1: Primary]
, [2: Overview]
, ...6 more...
)
-
ProductName
(
type: esriFieldTypeString, alias: ProductName, length: 100
)
-
Shape
(
type: esriFieldTypeGeometry, alias: Shape
)
-
SensorName
(
type: esriFieldTypeString, alias: Sensor Name, length: 20
)
-
AcquisitionDate
(
type: esriFieldTypeDate, alias: Acquisition Date, length: 8
)
-
SunAzimuth
(
type: esriFieldTypeDouble, alias: Sun Azimuth
)
-
SunElevation
(
type: esriFieldTypeDouble, alias: Sun Elevation
)
-
CloudCover
(
type: esriFieldTypeDouble, alias: Cloud Cover
)
-
Best
(
type: esriFieldTypeInteger, alias: Best
)
-
PR
(
type: esriFieldTypeInteger, alias: PR
)
-
Latest
(
type: esriFieldTypeInteger, alias: Latest
)
-
DayOfYear
(
type: esriFieldTypeInteger, alias: DayOfYear
)
-
Month
(
type: esriFieldTypeSmallInteger, alias: Month
)
-
dataset_id
(
type: esriFieldTypeString, alias: dataset_id, length: 50
)
-
WRS_Path
(
type: esriFieldTypeInteger, alias: WRS_Path
)
-
WRS_Row
(
type: esriFieldTypeInteger, alias: WRS_Row
)
Default Mosaic Method: ByAttribute
Allowed Mosaic Methods: ByAttribute,Center,NorthWest,Nadir,LockRaster,None
SortField: Best
SortValue: 0
Mosaic Operator: First
Default Compression Quality: 85
Default Resampling Method: Bilinear
Max Record Count: 1000
Max Image Height: 4000
Max Image Width: 4000
Max Download Image Count: 20
Max Mosaic Image Count: 20
Allow Raster Function: true
Allow Copy: true
Allow Analysis: true
Allow Compute TiePoints: false
Supports Statistics: true
Supports Advanced Queries: true
Use StandardizedQueries: true
Raster Type Infos:
Name: Raster Dataset
Description: Supports all ArcGIS Raster Datasets
Help:
Has Raster Attribute Table: false
Edit Fields Info: null
Ownership Based AccessControl For Rasters: null
Child Resources:
Info
Statistics
Key Properties
Legend
Raster Function Infos
Supported Operations:
Export Image
Query
Identify
Measure
Compute Histograms
Compute Statistics Histograms
Get Samples
Compute Class Statistics
Query Boundary
Compute Pixel Location
Validate
Project