{
 "currentVersion": 10.9,
 "serviceDescription": "Panchromatic Landsat 8 OLI Image Service covering the landmass of the World. This service includes Panchromatic scenes, at 15 meter resolution. Using on-the-fly processing, the raw DN values are transformed to scaled (0 - 10000) apparent reflectance values and then different enhancement renderings are applied. The service is updated on a daily basis to include the latest best scenes from the USGS.",
 "name": "Landsat8_Panchromatic",
 "description": "Panchromatic Landsat 8 OLI Image Service covering the landmass of the World. This service includes Panchromatic scenes, at 15 meter resolution. Using on-the-fly processing, the raw DN values are transformed to scaled (0 - 10000) apparent reflectance values and then different enhancement renderings are applied. The service is updated on a daily basis to include the latest best scenes from the USGS.",
 "extent": {
  "xmin": -2.00375070672E7,
  "ymin": -1.0635975075400002E7,
  "xmax": 2.0037507842788246E7,
  "ymax": 1.3999994924599998E7,
  "spatialReference": {
   "wkid": 102100,
   "latestWkid": 3857
  }
 },
 "initialExtent": {
  "xmin": -2.00375070672E7,
  "ymin": -1.0635975075400002E7,
  "xmax": 2.0037507842788246E7,
  "ymax": 1.3999994924599998E7,
  "spatialReference": {
   "wkid": 102100,
   "latestWkid": 3857
  }
 },
 "fullExtent": {
  "xmin": -2.00375070672E7,
  "ymin": -1.0635975075400002E7,
  "xmax": 2.0037507842788246E7,
  "ymax": 1.3999994924599998E7,
  "spatialReference": {
   "wkid": 102100,
   "latestWkid": 3857
  }
 },
 "hasMultidimensions": false,
 "timeInfo": {
  "startTimeField": "AcquisitionDate",
  "endTimeField": "AcquisitionDate",
  "timeExtent": [
   1363622295000,
   1767135955000
  ],
  "timeReference": null
 },
 "pixelSizeX": 14.99999809481876,
 "pixelSizeY": 15,
 "datasetFormat": "AMD",
 "uncompressedSize": 8775884359728,
 "blockWidth": 2048,
 "blockHeight": 256,
 "compressionType": "None",
 "bandNames": [
  "Band_1"
 ],
 "allowCopy": true,
 "allowAnalysis": true,
 "bandCount": 1,
 "pixelType": "S16",
 "minPixelSize": 0,
 "maxPixelSize": 0,
 "copyrightText": "",
 "serviceDataType": "esriImageServiceDataTypeGeneric",
 "serviceSourceType": "esriImageServiceSourceTypeMosaicDataset",
 "minValues": [],
 "maxValues": [],
 "meanValues": [],
 "stdvValues": [],
 "objectIdField": "OBJECTID",
 "fields": [
  {
   "name": "OBJECTID",
   "type": "esriFieldTypeOID",
   "alias": "OBJECTID",
   "domain": null
  },
  {
   "name": "Name",
   "type": "esriFieldTypeString",
   "alias": "Name",
   "domain": null,
   "length": 200
  },
  {
   "name": "MinPS",
   "type": "esriFieldTypeDouble",
   "alias": "MinPS",
   "domain": null
  },
  {
   "name": "MaxPS",
   "type": "esriFieldTypeDouble",
   "alias": "MaxPS",
   "domain": null
  },
  {
   "name": "LowPS",
   "type": "esriFieldTypeDouble",
   "alias": "LowPS",
   "domain": null
  },
  {
   "name": "HighPS",
   "type": "esriFieldTypeDouble",
   "alias": "HighPS",
   "domain": null
  },
  {
   "name": "Category",
   "type": "esriFieldTypeInteger",
   "alias": "Category",
   "domain": {
    "type": "codedValue",
    "name": "MosaicCatalogItemCategoryDomain",
    "description": "Catalog item categories.",
    "codedValues": [
     {
      "name": "Unknown",
      "code": 0
     },
     {
      "name": "Primary",
      "code": 1
     },
     {
      "name": "Overview",
      "code": 2
     },
     {
      "name": "Unprocessed Overview",
      "code": 3
     },
     {
      "name": "Partial Overview",
      "code": 4
     },
     {
      "name": "Inactive",
      "code": 5
     },
     {
      "name": "Uploaded",
      "code": 253
     },
     {
      "name": "Incomplete",
      "code": 254
     },
     {
      "name": "Custom",
      "code": 255
     }
    ],
    "mergePolicy": "esriMPTDefaultValue",
    "splitPolicy": "esriSPTDefaultValue"
   }
  },
  {
   "name": "ProductName",
   "type": "esriFieldTypeString",
   "alias": "ProductName",
   "domain": null,
   "length": 100
  },
  {
   "name": "Shape",
   "type": "esriFieldTypeGeometry",
   "alias": "Shape",
   "domain": null
  },
  {
   "name": "SensorName",
   "type": "esriFieldTypeString",
   "alias": "Sensor Name",
   "domain": null,
   "length": 20
  },
  {
   "name": "AcquisitionDate",
   "type": "esriFieldTypeDate",
   "alias": "Acquisition Date",
   "domain": null,
   "length": 8
  },
  {
   "name": "SunAzimuth",
   "type": "esriFieldTypeDouble",
   "alias": "Sun Azimuth",
   "domain": null
  },
  {
   "name": "SunElevation",
   "type": "esriFieldTypeDouble",
   "alias": "Sun Elevation",
   "domain": null
  },
  {
   "name": "CloudCover",
   "type": "esriFieldTypeDouble",
   "alias": "Cloud Cover",
   "domain": null
  },
  {
   "name": "Best",
   "type": "esriFieldTypeInteger",
   "alias": "Best",
   "domain": null
  },
  {
   "name": "PR",
   "type": "esriFieldTypeInteger",
   "alias": "PR",
   "domain": null
  },
  {
   "name": "Latest",
   "type": "esriFieldTypeInteger",
   "alias": "Latest",
   "domain": null
  },
  {
   "name": "DayOfYear",
   "type": "esriFieldTypeInteger",
   "alias": "DayOfYear",
   "domain": null
  },
  {
   "name": "Month",
   "type": "esriFieldTypeSmallInteger",
   "alias": "Month",
   "domain": null
  },
  {
   "name": "dataset_id",
   "type": "esriFieldTypeString",
   "alias": "dataset_id",
   "domain": null,
   "length": 50
  },
  {
   "name": "WRS_Path",
   "type": "esriFieldTypeInteger",
   "alias": "WRS_Path",
   "domain": null
  },
  {
   "name": "WRS_Row",
   "type": "esriFieldTypeInteger",
   "alias": "WRS_Row",
   "domain": null
  }
 ],
 "capabilities": "Catalog,Mensuration,Image,Metadata",
 "defaultMosaicMethod": "ByAttribute",
 "allowedMosaicMethods": "ByAttribute,Center,NorthWest,Nadir,LockRaster,None",
 "sortField": "Best",
 "sortValue": "0",
 "sortAscending": true,
 "mosaicOperator": "First",
 "maxDownloadSizeLimit": 2048,
 "defaultCompressionQuality": 85,
 "defaultResamplingMethod": "Bilinear",
 "maxImageHeight": 4000,
 "maxImageWidth": 4000,
 "maxRecordCount": 1000,
 "maxDownloadImageCount": 20,
 "maxMosaicImageCount": 20,
 "allowRasterFunction": true,
 "rasterFunctionInfos": [
  {
   "name": "Panchromatic",
   "description": "15m Panchromatic band (8), with fixed stretch applied on apparent reflectance.",
   "help": ""
  },
  {
   "name": "Panchromatic with DRA Sharpened",
   "description": "15m Panchromatic band (8), with sharpen convolution filter and Dynamic Range Adjustment applied on apparent reflectance.",
   "help": ""
  },
  {
   "name": "Panchromatic Sharpened",
   "description": "15m Panchromatic band (8), with sharpen convolution filter applied on apparent reflectance.",
   "help": ""
  },
  {
   "name": "Panchromatic with DRA",
   "description": "15m Panchromatic band (8) with Dynamic Range Adjustment applied on apparent reflectance.",
   "help": ""
  },
  {
   "name": "None",
   "description": "",
   "help": ""
  }
 ],
 "rasterTypeInfos": [
  {
   "name": "Raster Dataset",
   "description": "Supports all ArcGIS Raster Datasets",
   "help": ""
  }
 ],
 "mensurationCapabilities": "Basic",
 "hasHistograms": false,
 "hasColormap": false,
 "hasRasterAttributeTable": false,
 "minScale": 0,
 "maxScale": 0,
 "exportTilesAllowed": false,
 "supportsStatistics": true,
 "supportsAdvancedQueries": true,
 "editFieldsInfo": null,
 "ownershipBasedAccessControlForRasters": null,
 "allowComputeTiePoints": false,
 "useStandardizedQueries": true,
 "advancedQueryCapabilities": {
  "useStandardizedQueries": true,
  "supportsStatistics": true,
  "supportsOrderBy": true,
  "supportsDistinct": true,
  "supportsPagination": true
 },
 "spatialReference": {
  "wkid": 102100,
  "latestWkid": 3857
 }
}
