View In:
ArcGIS JavaScript
ArcGIS Online Map Viewer
ArcGIS Earth
ArcMap
View Footprint In:
ArcGIS Online Map Viewer
Service Description: Pan-sharpened Landsat South-pole image service covering the Antarctic region. This service includes Panchromatic scenes, at 15 meter resolution, pan-sharpened with Natural Color bands (Red, Green, Blue) at 30 meter resolution. Using on-the-fly processing, the raw DN values are transformed to scaled (0 - 10000) apparent reflectance values and then different enhancement renderings are applied. The service is updated on daily basis to include scenes from the USGS. For more information on this service, including the terms of use, visit us
online.
Name: Landsat/Antarctic_PS
Description: Pan-sharpened Landsat South-pole image service covering the Antarctic region. This service includes Panchromatic scenes, at 15 meter resolution, pan-sharpened with Natural Color bands (Red, Green, Blue) at 30 meter resolution. Using on-the-fly processing, the raw DN values are transformed to scaled (0 - 10000) apparent reflectance values and then different enhancement renderings are applied. The service is updated on daily basis to include scenes from the USGS. For more information on this service, including the terms of use, visit us
online.
Single Fused Map Cache: false
Extent:
XMin: -3235132.5
YMin: -3115837.5
XMax: 3253207.5
YMax: 3375037.5
Spatial Reference: 3031
(3031)
Initial Extent:
XMin: -3235132.5
YMin: -3115837.5
XMax: 3253207.5
YMax: 3375037.5
Spatial Reference: 3031
(3031)
Full Extent:
XMin: -3235132.5
YMin: -3115837.5
XMax: 3253207.5
YMax: 3375037.5
Spatial Reference: 3031
(3031)
Time Info:
Start Time Field: AcquisitionDate
End Time Field: AcquisitionDate
Time Extent:
[2013/03/22 14:05:27 UTC, 2026/06/05 11:09:02 UTC]
Time Reference:
N/A
Pixel Size X: 15.0
Pixel Size Y: 15.0
Band Count: 3
Pixel Type: U16
RasterFunction Infos: {"rasterFunctionInfos": [
{
"name": "Pansharpened Enhanced with DRA",
"description": "Natural Color bands red, green, blue(4, 3, 2) pansharpened with 15m panchromatic band 8 and dynamic range adjustment applied on apparent reflectance.",
"help": ""
},
{
"name": "Pansharpened Natural Color",
"description": "Natural Color bands red, green, blue(4, 3, 2) pansharpened with 15m panchromatic band 8 and fixed stretch applied on apparent reflectance.",
"help": ""
},
{
"name": "None",
"description": "",
"help": ""
}
]}
Mensuration Capabilities:
Has Histograms: false
Has Colormap: false
Has Multi Dimensions : false
Rendering Rule:
Min Scale: 0
Max Scale: 0
Copyright Text: Source : Esri, USGS, NASA
Service Data Type: esriImageServiceDataTypeGeneric
Min Values: 0, 0, 0
Max Values: 10000, 10000, 10000
Mean Values: 3500, 3500, 3500
Standard Deviation Values: 1250, 1250, 1250
Object ID Field: OBJECTID
Fields:
-
OBJECTID
(
type: esriFieldTypeOID, alias: OBJECTID
)
-
Name
(
type: esriFieldTypeString, alias: Name, length: 200
)
-
MinPS
(
type: esriFieldTypeDouble, alias: MinPS
)
-
MaxPS
(
type: esriFieldTypeDouble, alias: MaxPS
)
-
LowPS
(
type: esriFieldTypeDouble, alias: LowPS
)
-
HighPS
(
type: esriFieldTypeDouble, alias: HighPS
)
-
Category
(
type: esriFieldTypeInteger, alias: Category
, Coded Values:
[0: Unknown]
, [1: Primary]
, [2: Overview]
, ...6 more...
)
-
GroupName
(
type: esriFieldTypeString, alias: GroupName, length: 100
)
-
ProductName
(
type: esriFieldTypeString, alias: ProductName, length: 100
)
-
CenterX
(
type: esriFieldTypeDouble, alias: CenterX
)
-
CenterY
(
type: esriFieldTypeDouble, alias: CenterY
)
-
Shape
(
type: esriFieldTypeGeometry, alias: Shape
)
-
SensorName
(
type: esriFieldTypeString, alias: Sensor Name, length: 20
)
-
AcquisitionDate
(
type: esriFieldTypeDate, alias: Acquisition Date, length: 8
)
-
SunAzimuth
(
type: esriFieldTypeDouble, alias: Sun Azimuth
)
-
SunElevation
(
type: esriFieldTypeDouble, alias: Sun Elevation
)
-
CloudCover
(
type: esriFieldTypeDouble, alias: Cloud Cover
)
-
Best
(
type: esriFieldTypeInteger, alias: Best
)
-
DateUpdated
(
type: esriFieldTypeDate, alias: DateUpdated, length: 8
)
-
PR
(
type: esriFieldTypeInteger, alias: PR
)
-
Latest
(
type: esriFieldTypeInteger, alias: Latest
)
-
DayOfYear
(
type: esriFieldTypeInteger, alias: DayOfYear
)
-
Month
(
type: esriFieldTypeSmallInteger, alias: Month
)
-
LANDSAT_SCENE_ID
(
type: esriFieldTypeString, alias: LANDSAT_SCENE_ID, length: 30
)
-
LANDSAT_PRODUCT_ID
(
type: esriFieldTypeString, alias: LANDSAT_PRODUCT_ID, length: 50
)
-
dataset_id
(
type: esriFieldTypeString, alias: dataset_id, length: 255
)
Default Mosaic Method: ByAttribute
Allowed Mosaic Methods: ByAttribute,NorthWest,Center,LockRaster,Nadir,None
SortField: Best
SortValue: 0
Mosaic Operator: First
Default Compression Quality: 85
Default Resampling Method: Bilinear
Max Record Count: 1000
Max Image Height: 4000
Max Image Width: 4000
Max Download Image Count: 20
Max Mosaic Image Count: 20
Allow Raster Function: true
Allow Copy: true
Allow Analysis: true
Allow Compute TiePoints: false
Supports Statistics: true
Supports Advanced Queries: true
Use StandardizedQueries: true
Raster Type Infos:
Name: Raster Dataset
Description: Supports all ArcGIS Raster Datasets
Help:
Has Raster Attribute Table: false
Edit Fields Info: null
Ownership Based AccessControl For Rasters: null
Child Resources:
Info
Statistics
Key Properties
Legend
Raster Function Infos
Supported Operations:
Export Image
Query
Identify
Compute Histograms
Compute Statistics Histograms
Get Samples
Compute Class Statistics
Query Boundary
Compute Pixel Location
Validate
Project